BEGIN:VCALENDAR
VERSION:2.0
PRODID:-//Deventer Foto Kring - ECPv6.15.20//NONSGML v1.0//EN
CALSCALE:GREGORIAN
METHOD:PUBLISH
X-WR-CALNAME:Deventer Foto Kring
X-ORIGINAL-URL:https://deventerfotokring.nl
X-WR-CALDESC:Evenementen voor Deventer Foto Kring
REFRESH-INTERVAL;VALUE=DURATION:PT1H
X-Robots-Tag:noindex
X-PUBLISHED-TTL:PT1H
BEGIN:VTIMEZONE
TZID:Europe/Amsterdam
BEGIN:DAYLIGHT
TZOFFSETFROM:+0100
TZOFFSETTO:+0200
TZNAME:CEST
DTSTART:20240331T010000
END:DAYLIGHT
BEGIN:STANDARD
TZOFFSETFROM:+0200
TZOFFSETTO:+0100
TZNAME:CET
DTSTART:20241027T010000
END:STANDARD
BEGIN:DAYLIGHT
TZOFFSETFROM:+0100
TZOFFSETTO:+0200
TZNAME:CEST
DTSTART:20250330T010000
END:DAYLIGHT
BEGIN:STANDARD
TZOFFSETFROM:+0200
TZOFFSETTO:+0100
TZNAME:CET
DTSTART:20251026T010000
END:STANDARD
BEGIN:DAYLIGHT
TZOFFSETFROM:+0100
TZOFFSETTO:+0200
TZNAME:CEST
DTSTART:20260329T010000
END:DAYLIGHT
BEGIN:STANDARD
TZOFFSETFROM:+0200
TZOFFSETTO:+0100
TZNAME:CET
DTSTART:20261025T010000
END:STANDARD
BEGIN:DAYLIGHT
TZOFFSETFROM:+0100
TZOFFSETTO:+0200
TZNAME:CEST
DTSTART:20270328T010000
END:DAYLIGHT
BEGIN:STANDARD
TZOFFSETFROM:+0200
TZOFFSETTO:+0100
TZNAME:CET
DTSTART:20271031T010000
END:STANDARD
END:VTIMEZONE
BEGIN:VEVENT
DTSTART;TZID=Europe/Amsterdam:20260204T193000
DTEND;TZID=Europe/Amsterdam:20260204T220000
DTSTAMP:20260421T070525
CREATED:20251213T144359Z
LAST-MODIFIED:20251213T144359Z
UID:9577-1770233400-1770242400@deventerfotokring.nl
SUMMARY:Mentoraat Gerard Hol
DESCRIPTION:
URL:https://deventerfotokring.nl/dfk-agenda/mentoraat-gerard-hol-2/
LOCATION:De Schalm\, Dreef 1\, Deventer\, Netherlands
CATEGORIES:Mentoraat
END:VEVENT
BEGIN:VEVENT
DTSTART;TZID=Europe/Amsterdam:20260114T193000
DTEND;TZID=Europe/Amsterdam:20260114T220000
DTSTAMP:20260421T070525
CREATED:20251211T184140Z
LAST-MODIFIED:20251211T184140Z
UID:9572-1768419000-1768428000@deventerfotokring.nl
SUMMARY:Mentoraat Gerard Hol
DESCRIPTION:
URL:https://deventerfotokring.nl/dfk-agenda/mentoraat-gerard-hol/
LOCATION:De Schalm\, Dreef 1\, Deventer\, Netherlands
CATEGORIES:Mentoraat
END:VEVENT
BEGIN:VEVENT
DTSTART;TZID=Europe/Amsterdam:20251217T193000
DTEND;TZID=Europe/Amsterdam:20251217T213000
DTSTAMP:20260421T070525
CREATED:20251113T095854Z
LAST-MODIFIED:20251113T100859Z
UID:9274-1765999800-1766007000@deventerfotokring.nl
SUMMARY:Cursus fotobespreken
DESCRIPTION:
URL:https://deventerfotokring.nl/dfk-agenda/cursus-foto-bespreken/
CATEGORIES:Mentoraat
END:VEVENT
END:VCALENDAR