BEGIN:VCALENDAR
VERSION:2.0
PRODID:-//Deventer Foto Kring - ECPv6.15.20//NONSGML v1.0//EN
CALSCALE:GREGORIAN
METHOD:PUBLISH
X-WR-CALNAME:Deventer Foto Kring
X-ORIGINAL-URL:https://deventerfotokring.nl
X-WR-CALDESC:Evenementen voor Deventer Foto Kring
REFRESH-INTERVAL;VALUE=DURATION:PT1H
X-Robots-Tag:noindex
X-PUBLISHED-TTL:PT1H
BEGIN:VTIMEZONE
TZID:Europe/Amsterdam
BEGIN:DAYLIGHT
TZOFFSETFROM:+0100
TZOFFSETTO:+0200
TZNAME:CEST
DTSTART:20250330T010000
END:DAYLIGHT
BEGIN:STANDARD
TZOFFSETFROM:+0200
TZOFFSETTO:+0100
TZNAME:CET
DTSTART:20251026T010000
END:STANDARD
BEGIN:DAYLIGHT
TZOFFSETFROM:+0100
TZOFFSETTO:+0200
TZNAME:CEST
DTSTART:20260329T010000
END:DAYLIGHT
BEGIN:STANDARD
TZOFFSETFROM:+0200
TZOFFSETTO:+0100
TZNAME:CET
DTSTART:20261025T010000
END:STANDARD
BEGIN:DAYLIGHT
TZOFFSETFROM:+0100
TZOFFSETTO:+0200
TZNAME:CEST
DTSTART:20270328T010000
END:DAYLIGHT
BEGIN:STANDARD
TZOFFSETFROM:+0200
TZOFFSETTO:+0100
TZNAME:CET
DTSTART:20271031T010000
END:STANDARD
END:VTIMEZONE
BEGIN:VEVENT
DTSTART;TZID=Europe/Amsterdam:20260819T193000
DTEND;TZID=Europe/Amsterdam:20260819T220000
DTSTAMP:20260421T052141
CREATED:20251213T144842Z
LAST-MODIFIED:20251213T144922Z
UID:9587-1787167800-1787176800@deventerfotokring.nl
SUMMARY:Mentoraat Annemieke Tonnaer
DESCRIPTION:
URL:https://deventerfotokring.nl/dfk-agenda/mentoraat-annemieke-tonnaer/
LOCATION:De Schalm\, Dreef 1\, Deventer\, Netherlands
CATEGORIES:Mentoraat
END:VEVENT
END:VCALENDAR