BEGIN:VCALENDAR
VERSION:2.0
PRODID:-//Deventer Foto Kring - ECPv6.15.20//NONSGML v1.0//EN
CALSCALE:GREGORIAN
METHOD:PUBLISH
X-ORIGINAL-URL:https://deventerfotokring.nl
X-WR-CALDESC:Evenementen voor Deventer Foto Kring
REFRESH-INTERVAL;VALUE=DURATION:PT1H
X-Robots-Tag:noindex
X-PUBLISHED-TTL:PT1H
BEGIN:VTIMEZONE
TZID:Europe/Amsterdam
BEGIN:DAYLIGHT
TZOFFSETFROM:+0100
TZOFFSETTO:+0200
TZNAME:CEST
DTSTART:20240331T010000
END:DAYLIGHT
BEGIN:STANDARD
TZOFFSETFROM:+0200
TZOFFSETTO:+0100
TZNAME:CET
DTSTART:20241027T010000
END:STANDARD
BEGIN:DAYLIGHT
TZOFFSETFROM:+0100
TZOFFSETTO:+0200
TZNAME:CEST
DTSTART:20250330T010000
END:DAYLIGHT
BEGIN:STANDARD
TZOFFSETFROM:+0200
TZOFFSETTO:+0100
TZNAME:CET
DTSTART:20251026T010000
END:STANDARD
BEGIN:DAYLIGHT
TZOFFSETFROM:+0100
TZOFFSETTO:+0200
TZNAME:CEST
DTSTART:20260329T010000
END:DAYLIGHT
BEGIN:STANDARD
TZOFFSETFROM:+0200
TZOFFSETTO:+0100
TZNAME:CET
DTSTART:20261025T010000
END:STANDARD
BEGIN:DAYLIGHT
TZOFFSETFROM:+0100
TZOFFSETTO:+0200
TZNAME:CEST
DTSTART:20270328T010000
END:DAYLIGHT
BEGIN:STANDARD
TZOFFSETFROM:+0200
TZOFFSETTO:+0100
TZNAME:CET
DTSTART:20271031T010000
END:STANDARD
END:VTIMEZONE
BEGIN:VEVENT
DTSTART;TZID=Europe/Amsterdam:20251216T191500
DTEND;TZID=Europe/Amsterdam:20251216T220000
DTSTAMP:20260421T084519
CREATED:20251031T171909Z
LAST-MODIFIED:20251203T100315Z
UID:8957-1765912500-1765922400@deventerfotokring.nl
SUMMARY:Huiskamergroep Architectuur
DESCRIPTION:Je hebt geen toestemming om deze inhoud te bekijken
URL:https://deventerfotokring.nl/dfk-agenda/huiskamergroep-architectuur/
LOCATION:De Kuip
CATEGORIES:Huiskamergroep
END:VEVENT
BEGIN:VEVENT
DTSTART;TZID=Europe/Amsterdam:20251216T193000
DTEND;TZID=Europe/Amsterdam:20251216T213000
DTSTAMP:20260421T084519
CREATED:20251113T154129Z
LAST-MODIFIED:20251113T154129Z
UID:9297-1765913400-1765920600@deventerfotokring.nl
SUMMARY:HKG Vrije Expressie
DESCRIPTION:Je hebt geen toestemming om deze inhoud te bekijken
URL:https://deventerfotokring.nl/dfk-agenda/hkg-vrije-expressie/
LOCATION:Hans Winkels
CATEGORIES:Huiskamergroep
END:VEVENT
BEGIN:VEVENT
DTSTART;TZID=Europe/Amsterdam:20260107T193000
DTEND;TZID=Europe/Amsterdam:20260107T220000
DTSTAMP:20260421T084519
CREATED:20260218T222406Z
LAST-MODIFIED:20260218T222406Z
UID:9970-1767814200-1767823200@deventerfotokring.nl
SUMMARY:HKG Natuur
DESCRIPTION:Je hebt geen toestemming om deze inhoud te bekijken
URL:https://deventerfotokring.nl/dfk-agenda/hkg-natuur-20260107/
CATEGORIES:Huiskamergroep
END:VEVENT
BEGIN:VEVENT
DTSTART;TZID=Europe/Amsterdam:20260107T200000
DTEND;TZID=Europe/Amsterdam:20260107T220000
DTSTAMP:20260421T084519
CREATED:20251129T170230Z
LAST-MODIFIED:20251129T170230Z
UID:9519-1767816000-1767823200@deventerfotokring.nl
SUMMARY:HKG Abstract
DESCRIPTION:Je hebt geen toestemming om deze inhoud te bekijken
URL:https://deventerfotokring.nl/dfk-agenda/hkg-abstract-20260107/
LOCATION:Teams Online\, Netherlands
CATEGORIES:Huiskamergroep
ORGANIZER;CN="Gerard Zwartjes":MAILTO:gerard_zwartjes@hotmail.com
END:VEVENT
BEGIN:VEVENT
DTSTART;TZID=Europe/Amsterdam:20260120T191500
DTEND;TZID=Europe/Amsterdam:20260120T220000
DTSTAMP:20260421T084519
CREATED:20251203T100504Z
LAST-MODIFIED:20251203T100504Z
UID:9534-1768936500-1768946400@deventerfotokring.nl
SUMMARY:Huiskamergroep Architectuur
DESCRIPTION:Je hebt geen toestemming om deze inhoud te bekijken
URL:https://deventerfotokring.nl/dfk-agenda/huiskamergroep-architectuur-2/
LOCATION:De Kuip
CATEGORIES:Huiskamergroep
END:VEVENT
BEGIN:VEVENT
DTSTART;TZID=Europe/Amsterdam:20260121T193000
DTEND;TZID=Europe/Amsterdam:20260121T213000
DTSTAMP:20260421T084519
CREATED:20251031T181920Z
LAST-MODIFIED:20251104T100223Z
UID:8965-1769023800-1769031000@deventerfotokring.nl
SUMMARY:HKG Portret
DESCRIPTION:Je hebt geen toestemming om deze inhoud te bekijken
URL:https://deventerfotokring.nl/dfk-agenda/hkg-portet-2/
LOCATION:Detmerskazerne
CATEGORIES:Huiskamergroep
END:VEVENT
BEGIN:VEVENT
DTSTART;TZID=Europe/Amsterdam:20260121T193000
DTEND;TZID=Europe/Amsterdam:20260121T213000
DTSTAMP:20260421T084519
CREATED:20251114T110150Z
LAST-MODIFIED:20251114T132945Z
UID:9346-1769023800-1769031000@deventerfotokring.nl
SUMMARY:HKG Straat en Documentair
DESCRIPTION:Je hebt geen toestemming om deze inhoud te bekijken
URL:https://deventerfotokring.nl/dfk-agenda/hkg-straat-en-documentair-9/
CATEGORIES:Huiskamergroep
END:VEVENT
BEGIN:VEVENT
DTSTART;TZID=Europe/Amsterdam:20260127T193000
DTEND;TZID=Europe/Amsterdam:20260127T213000
DTSTAMP:20260421T084519
CREATED:20251113T154617Z
LAST-MODIFIED:20251113T154634Z
UID:9306-1769542200-1769549400@deventerfotokring.nl
SUMMARY:HKG Vrije Expressie
DESCRIPTION:Je hebt geen toestemming om deze inhoud te bekijken
URL:https://deventerfotokring.nl/dfk-agenda/hkg-vrije-expressie-3/
LOCATION:Gonny Feenstra
CATEGORIES:Huiskamergroep
END:VEVENT
BEGIN:VEVENT
DTSTART;TZID=Europe/Amsterdam:20260129T193000
DTEND;TZID=Europe/Amsterdam:20260129T220000
DTSTAMP:20260421T084519
CREATED:20251113T100555Z
LAST-MODIFIED:20260218T220403Z
UID:9277-1769715000-1769724000@deventerfotokring.nl
SUMMARY:HKG Mobiele Fotografie
DESCRIPTION:Je hebt geen toestemming om deze inhoud te bekijken
URL:https://deventerfotokring.nl/dfk-agenda/hkg-mobile-fotografie/
LOCATION:Detmerskazerne
CATEGORIES:Huiskamergroep
END:VEVENT
BEGIN:VEVENT
DTSTART;TZID=Europe/Amsterdam:20260218T193000
DTEND;TZID=Europe/Amsterdam:20260218T220000
DTSTAMP:20260421T084519
CREATED:20260218T222630Z
LAST-MODIFIED:20260218T222630Z
UID:9974-1771443000-1771452000@deventerfotokring.nl
SUMMARY:HKG Natuur
DESCRIPTION:Je hebt geen toestemming om deze inhoud te bekijken
URL:https://deventerfotokring.nl/dfk-agenda/hkg-natuur-20260218/
CATEGORIES:Huiskamergroep
END:VEVENT
BEGIN:VEVENT
DTSTART;TZID=Europe/Amsterdam:20260218T200000
DTEND;TZID=Europe/Amsterdam:20260218T220000
DTSTAMP:20260421T084519
CREATED:20260107T231025Z
LAST-MODIFIED:20260107T231025Z
UID:9742-1771444800-1771452000@deventerfotokring.nl
SUMMARY:HKG Abstract
DESCRIPTION:Je hebt geen toestemming om deze inhoud te bekijken
URL:https://deventerfotokring.nl/dfk-agenda/hkg-abstract/
LOCATION:Teams Online\, Netherlands
CATEGORIES:Huiskamergroep
ORGANIZER;CN="Gerard Zwartjes":MAILTO:gerard_zwartjes@hotmail.com
END:VEVENT
BEGIN:VEVENT
DTSTART;TZID=Europe/Amsterdam:20260303T191500
DTEND;TZID=Europe/Amsterdam:20260303T220000
DTSTAMP:20260421T084519
CREATED:20251203T100638Z
LAST-MODIFIED:20251203T100638Z
UID:9536-1772565300-1772575200@deventerfotokring.nl
SUMMARY:Huiskamergroep Architectuur
DESCRIPTION:Je hebt geen toestemming om deze inhoud te bekijken
URL:https://deventerfotokring.nl/dfk-agenda/huiskamergroep-architectuur-3/
LOCATION:De Kuip
CATEGORIES:Huiskamergroep
END:VEVENT
BEGIN:VEVENT
DTSTART;TZID=Europe/Amsterdam:20260304T193000
DTEND;TZID=Europe/Amsterdam:20260304T213000
DTSTAMP:20260421T084519
CREATED:20251031T181947Z
LAST-MODIFIED:20251104T100207Z
UID:8967-1772652600-1772659800@deventerfotokring.nl
SUMMARY:HKG Portret
DESCRIPTION:Je hebt geen toestemming om deze inhoud te bekijken
URL:https://deventerfotokring.nl/dfk-agenda/hkg-portet-3/
LOCATION:Detmerskazerne
CATEGORIES:Huiskamergroep
END:VEVENT
BEGIN:VEVENT
DTSTART;TZID=Europe/Amsterdam:20260304T193000
DTEND;TZID=Europe/Amsterdam:20260304T213000
DTSTAMP:20260421T084519
CREATED:20251114T110123Z
LAST-MODIFIED:20251114T132931Z
UID:9344-1772652600-1772659800@deventerfotokring.nl
SUMMARY:HKG Straat en Documentair
DESCRIPTION:Je hebt geen toestemming om deze inhoud te bekijken
URL:https://deventerfotokring.nl/dfk-agenda/hkg-straat-en-documentair-8/
CATEGORIES:Huiskamergroep
END:VEVENT
BEGIN:VEVENT
DTSTART;TZID=Europe/Amsterdam:20260310T193000
DTEND;TZID=Europe/Amsterdam:20260310T213000
DTSTAMP:20260421T084519
CREATED:20251113T155400Z
LAST-MODIFIED:20251113T155400Z
UID:9315-1773171000-1773178200@deventerfotokring.nl
SUMMARY:HKG Vrije Expressie
DESCRIPTION:Je hebt geen toestemming om deze inhoud te bekijken
URL:https://deventerfotokring.nl/dfk-agenda/hkg-vrije-expressie-7/
LOCATION:Barbara van Blijkshof
CATEGORIES:Huiskamergroep
END:VEVENT
BEGIN:VEVENT
DTSTART;TZID=Europe/Amsterdam:20260312T193000
DTEND;TZID=Europe/Amsterdam:20260312T220000
DTSTAMP:20260421T084519
CREATED:20251113T100708Z
LAST-MODIFIED:20260218T220905Z
UID:9280-1773343800-1773352800@deventerfotokring.nl
SUMMARY:HKG Mobiele Fotografie
DESCRIPTION:Je hebt geen toestemming om deze inhoud te bekijken
URL:https://deventerfotokring.nl/dfk-agenda/hkg-mobile-fotografie-12mrt/
LOCATION:Detmerskazerne
CATEGORIES:Huiskamergroep
END:VEVENT
BEGIN:VEVENT
DTSTART;TZID=Europe/Amsterdam:20260401T193000
DTEND;TZID=Europe/Amsterdam:20260401T220000
DTSTAMP:20260421T084519
CREATED:20260218T223113Z
LAST-MODIFIED:20260218T223113Z
UID:9976-1775071800-1775080800@deventerfotokring.nl
SUMMARY:HKG Natuur
DESCRIPTION:Je hebt geen toestemming om deze inhoud te bekijken
URL:https://deventerfotokring.nl/dfk-agenda/hkg-natuur-20260401/
CATEGORIES:Huiskamergroep
END:VEVENT
BEGIN:VEVENT
DTSTART;TZID=Europe/Amsterdam:20260407T191500
DTEND;TZID=Europe/Amsterdam:20260407T220000
DTSTAMP:20260421T084519
CREATED:20251203T100730Z
LAST-MODIFIED:20251203T100730Z
UID:9538-1775589300-1775599200@deventerfotokring.nl
SUMMARY:Huiskamergroep Architectuur
DESCRIPTION:Je hebt geen toestemming om deze inhoud te bekijken
URL:https://deventerfotokring.nl/dfk-agenda/huiskamergroep-architectuur-4/
LOCATION:De Kuip
CATEGORIES:Huiskamergroep
END:VEVENT
BEGIN:VEVENT
DTSTART;TZID=Europe/Amsterdam:20260408T200000
DTEND;TZID=Europe/Amsterdam:20260408T220000
DTSTAMP:20260421T084519
CREATED:20260218T220048Z
LAST-MODIFIED:20260218T220048Z
UID:9958-1775678400-1775685600@deventerfotokring.nl
SUMMARY:HKG Abstract
DESCRIPTION:Je hebt geen toestemming om deze inhoud te bekijken
URL:https://deventerfotokring.nl/dfk-agenda/hkg-abstract-20260408/
LOCATION:Teams Online\, Netherlands
CATEGORIES:Huiskamergroep
ORGANIZER;CN="Gerard Zwartjes":MAILTO:gerard_zwartjes@hotmail.com
END:VEVENT
BEGIN:VEVENT
DTSTART;TZID=Europe/Amsterdam:20260415T193000
DTEND;TZID=Europe/Amsterdam:20260415T213000
DTSTAMP:20260421T084519
CREATED:20251031T182008Z
LAST-MODIFIED:20251104T100150Z
UID:8969-1776281400-1776288600@deventerfotokring.nl
SUMMARY:HKG Portret
DESCRIPTION:Je hebt geen toestemming om deze inhoud te bekijken
URL:https://deventerfotokring.nl/dfk-agenda/hkg-portet-4/
LOCATION:Detmerskazerne
CATEGORIES:Huiskamergroep
END:VEVENT
BEGIN:VEVENT
DTSTART;TZID=Europe/Amsterdam:20260415T193000
DTEND;TZID=Europe/Amsterdam:20260415T213000
DTSTAMP:20260421T084519
CREATED:20251114T110055Z
LAST-MODIFIED:20251114T132918Z
UID:9342-1776281400-1776288600@deventerfotokring.nl
SUMMARY:HKG Straat en Documentair
DESCRIPTION:Je hebt geen toestemming om deze inhoud te bekijken
URL:https://deventerfotokring.nl/dfk-agenda/hkg-straat-en-documentair-7/
CATEGORIES:Huiskamergroep
END:VEVENT
BEGIN:VEVENT
DTSTART;TZID=Europe/Amsterdam:20260421T193000
DTEND;TZID=Europe/Amsterdam:20260421T213000
DTSTAMP:20260421T084519
CREATED:20251113T155234Z
LAST-MODIFIED:20251113T155234Z
UID:9316-1776799800-1776807000@deventerfotokring.nl
SUMMARY:HKG Vrije Expressie
DESCRIPTION:Je hebt geen toestemming om deze inhoud te bekijken
URL:https://deventerfotokring.nl/dfk-agenda/hkg-vrije-expressie-6/
LOCATION:Anita Cambier
CATEGORIES:Huiskamergroep
END:VEVENT
BEGIN:VEVENT
DTSTART;TZID=Europe/Amsterdam:20260423T193000
DTEND;TZID=Europe/Amsterdam:20260423T220000
DTSTAMP:20260421T084519
CREATED:20251113T100956Z
LAST-MODIFIED:20260218T220739Z
UID:9283-1776972600-1776981600@deventerfotokring.nl
SUMMARY:HKG Mobiele Fotografie
DESCRIPTION:Je hebt geen toestemming om deze inhoud te bekijken
URL:https://deventerfotokring.nl/dfk-agenda/hkg-mobile-fotografie-2/
LOCATION:Detmerskazerne
CATEGORIES:Huiskamergroep
END:VEVENT
BEGIN:VEVENT
DTSTART;TZID=Europe/Amsterdam:20260513T193000
DTEND;TZID=Europe/Amsterdam:20260513T220000
DTSTAMP:20260421T084519
CREATED:20260218T223218Z
LAST-MODIFIED:20260218T223218Z
UID:9978-1778700600-1778709600@deventerfotokring.nl
SUMMARY:HKG Natuur
DESCRIPTION:Je hebt geen toestemming om deze inhoud te bekijken
URL:https://deventerfotokring.nl/dfk-agenda/hkg-natuur-20260513/
CATEGORIES:Huiskamergroep
END:VEVENT
BEGIN:VEVENT
DTSTART;TZID=Europe/Amsterdam:20260519T191500
DTEND;TZID=Europe/Amsterdam:20260519T220000
DTSTAMP:20260421T084519
CREATED:20251203T100827Z
LAST-MODIFIED:20251203T100827Z
UID:9540-1779218100-1779228000@deventerfotokring.nl
SUMMARY:Huiskamergroep Architectuur
DESCRIPTION:Je hebt geen toestemming om deze inhoud te bekijken
URL:https://deventerfotokring.nl/dfk-agenda/huiskamergroep-architectuur-5/
LOCATION:De Kuip
CATEGORIES:Huiskamergroep
END:VEVENT
BEGIN:VEVENT
DTSTART;TZID=Europe/Amsterdam:20260520T193000
DTEND;TZID=Europe/Amsterdam:20260520T213000
DTSTAMP:20260421T084520
CREATED:20251114T110031Z
LAST-MODIFIED:20251114T132900Z
UID:9340-1779305400-1779312600@deventerfotokring.nl
SUMMARY:HKG Straat en Documentair
DESCRIPTION:Je hebt geen toestemming om deze inhoud te bekijken
URL:https://deventerfotokring.nl/dfk-agenda/hkg-straat-en-documentair-6/
CATEGORIES:Huiskamergroep
END:VEVENT
BEGIN:VEVENT
DTSTART;TZID=Europe/Amsterdam:20260527T193000
DTEND;TZID=Europe/Amsterdam:20260527T213000
DTSTAMP:20260421T084520
CREATED:20251031T182029Z
LAST-MODIFIED:20251104T100117Z
UID:8971-1779910200-1779917400@deventerfotokring.nl
SUMMARY:HKG Portret
DESCRIPTION:Je hebt geen toestemming om deze inhoud te bekijken
URL:https://deventerfotokring.nl/dfk-agenda/hkg-portet-5/
LOCATION:Detmerskazerne
CATEGORIES:Huiskamergroep
END:VEVENT
BEGIN:VEVENT
DTSTART;TZID=Europe/Amsterdam:20260602T193000
DTEND;TZID=Europe/Amsterdam:20260602T193000
DTSTAMP:20260421T084520
CREATED:20251113T155101Z
LAST-MODIFIED:20251119T120451Z
UID:9312-1780428600-1780428600@deventerfotokring.nl
SUMMARY:HKG Vrije Expressie
DESCRIPTION:Je hebt geen toestemming om deze inhoud te bekijken
URL:https://deventerfotokring.nl/dfk-agenda/hkg-vrije-expressie-5/
LOCATION:Peter
CATEGORIES:Huiskamergroep
END:VEVENT
BEGIN:VEVENT
DTSTART;TZID=Europe/Amsterdam:20260604T193000
DTEND;TZID=Europe/Amsterdam:20260604T220000
DTSTAMP:20260421T084520
CREATED:20251113T101033Z
LAST-MODIFIED:20260218T221027Z
UID:9285-1780601400-1780610400@deventerfotokring.nl
SUMMARY:HKG Mobiele Fotografie
DESCRIPTION:Je hebt geen toestemming om deze inhoud te bekijken
URL:https://deventerfotokring.nl/dfk-agenda/hkg-mobile-fotografie-3/
LOCATION:Detmerskazerne
CATEGORIES:Huiskamergroep
END:VEVENT
BEGIN:VEVENT
DTSTART;TZID=Europe/Amsterdam:20260624T193000
DTEND;TZID=Europe/Amsterdam:20260624T220000
DTSTAMP:20260421T084520
CREATED:20260218T223352Z
LAST-MODIFIED:20260218T223352Z
UID:9980-1782329400-1782338400@deventerfotokring.nl
SUMMARY:HKG Natuur
DESCRIPTION:Je hebt geen toestemming om deze inhoud te bekijken
URL:https://deventerfotokring.nl/dfk-agenda/hkg-natuur-20260624/
CATEGORIES:Huiskamergroep
END:VEVENT
END:VCALENDAR