BEGIN:VCALENDAR
VERSION:2.0
PRODID:-//Deventer Foto Kring - ECPv6.15.20//NONSGML v1.0//EN
CALSCALE:GREGORIAN
METHOD:PUBLISH
X-ORIGINAL-URL:https://deventerfotokring.nl
X-WR-CALDESC:Evenementen voor Deventer Foto Kring
REFRESH-INTERVAL;VALUE=DURATION:PT1H
X-Robots-Tag:noindex
X-PUBLISHED-TTL:PT1H
BEGIN:VTIMEZONE
TZID:Europe/Amsterdam
BEGIN:DAYLIGHT
TZOFFSETFROM:+0100
TZOFFSETTO:+0200
TZNAME:CEST
DTSTART:20250330T010000
END:DAYLIGHT
BEGIN:STANDARD
TZOFFSETFROM:+0200
TZOFFSETTO:+0100
TZNAME:CET
DTSTART:20251026T010000
END:STANDARD
BEGIN:DAYLIGHT
TZOFFSETFROM:+0100
TZOFFSETTO:+0200
TZNAME:CEST
DTSTART:20260329T010000
END:DAYLIGHT
BEGIN:STANDARD
TZOFFSETFROM:+0200
TZOFFSETTO:+0100
TZNAME:CET
DTSTART:20261025T010000
END:STANDARD
BEGIN:DAYLIGHT
TZOFFSETFROM:+0100
TZOFFSETTO:+0200
TZNAME:CEST
DTSTART:20270328T010000
END:DAYLIGHT
BEGIN:STANDARD
TZOFFSETFROM:+0200
TZOFFSETTO:+0100
TZNAME:CET
DTSTART:20271031T010000
END:STANDARD
END:VTIMEZONE
BEGIN:VEVENT
DTSTART;TZID=Europe/Amsterdam:20260218T193000
DTEND;TZID=Europe/Amsterdam:20260218T220000
DTSTAMP:20260421T035201
CREATED:20260218T222630Z
LAST-MODIFIED:20260218T222630Z
UID:9974-1771443000-1771452000@deventerfotokring.nl
SUMMARY:HKG Natuur
DESCRIPTION:Je hebt geen toestemming om deze inhoud te bekijken
URL:https://deventerfotokring.nl/dfk-agenda/hkg-natuur-20260218/
CATEGORIES:Huiskamergroep
END:VEVENT
BEGIN:VEVENT
DTSTART;TZID=Europe/Amsterdam:20260218T200000
DTEND;TZID=Europe/Amsterdam:20260218T220000
DTSTAMP:20260421T035201
CREATED:20260107T231025Z
LAST-MODIFIED:20260107T231025Z
UID:9742-1771444800-1771452000@deventerfotokring.nl
SUMMARY:HKG Abstract
DESCRIPTION:Je hebt geen toestemming om deze inhoud te bekijken
URL:https://deventerfotokring.nl/dfk-agenda/hkg-abstract/
LOCATION:Teams Online\, Netherlands
CATEGORIES:Huiskamergroep
ORGANIZER;CN="Gerard Zwartjes":MAILTO:gerard_zwartjes@hotmail.com
END:VEVENT
END:VCALENDAR