BEGIN:VCALENDAR
VERSION:2.0
PRODID:-//Deventer Foto Kring - ECPv6.15.20//NONSGML v1.0//EN
CALSCALE:GREGORIAN
METHOD:PUBLISH
X-ORIGINAL-URL:https://deventerfotokring.nl
X-WR-CALDESC:Evenementen voor Deventer Foto Kring
REFRESH-INTERVAL;VALUE=DURATION:PT1H
X-Robots-Tag:noindex
X-PUBLISHED-TTL:PT1H
BEGIN:VTIMEZONE
TZID:Europe/Amsterdam
BEGIN:DAYLIGHT
TZOFFSETFROM:+0100
TZOFFSETTO:+0200
TZNAME:CEST
DTSTART:20250330T010000
END:DAYLIGHT
BEGIN:STANDARD
TZOFFSETFROM:+0200
TZOFFSETTO:+0100
TZNAME:CET
DTSTART:20251026T010000
END:STANDARD
BEGIN:DAYLIGHT
TZOFFSETFROM:+0100
TZOFFSETTO:+0200
TZNAME:CEST
DTSTART:20260329T010000
END:DAYLIGHT
BEGIN:STANDARD
TZOFFSETFROM:+0200
TZOFFSETTO:+0100
TZNAME:CET
DTSTART:20261025T010000
END:STANDARD
BEGIN:DAYLIGHT
TZOFFSETFROM:+0100
TZOFFSETTO:+0200
TZNAME:CEST
DTSTART:20270328T010000
END:DAYLIGHT
BEGIN:STANDARD
TZOFFSETFROM:+0200
TZOFFSETTO:+0100
TZNAME:CET
DTSTART:20271031T010000
END:STANDARD
END:VTIMEZONE
BEGIN:VEVENT
DTSTART;TZID=Europe/Amsterdam:20260330T190000
DTEND;TZID=Europe/Amsterdam:20260330T220000
DTSTAMP:20260421T075311
CREATED:20251127T161635Z
LAST-MODIFIED:20260312T122852Z
UID:9492-1774897200-1774908000@deventerfotokring.nl
SUMMARY:DFK University\, Cees van der Lelij & Harry Schomaker\, Presentatie HKG Natuur
DESCRIPTION:Je hebt geen toestemming om deze inhoud te bekijken
URL:https://deventerfotokring.nl/dfk-agenda/cees-van-der-lelij-harry-schomaker-presentatie-fotobespreekcursus/
LOCATION:De Schalm\, Dreef 1\, Deventer\, Netherlands
CATEGORIES:Clubavond,DFK University
END:VEVENT
BEGIN:VEVENT
DTSTART;TZID=Europe/Amsterdam:20260420T194500
DTEND;TZID=Europe/Amsterdam:20260420T220000
DTSTAMP:20260421T075311
CREATED:20260312T115212Z
LAST-MODIFIED:20260312T115212Z
UID:10023-1776714300-1776722400@deventerfotokring.nl
SUMMARY:DFK University Praktijkavond
DESCRIPTION:Je hebt geen toestemming om deze inhoud te bekijken
URL:https://deventerfotokring.nl/dfk-agenda/dfk-university-praktijkavond/
LOCATION:De Schalm\, Dreef 1\, Deventer\, Netherlands
CATEGORIES:DFK University
END:VEVENT
BEGIN:VEVENT
DTSTART;TZID=Europe/Amsterdam:20260601T194500
DTEND;TZID=Europe/Amsterdam:20260601T220000
DTSTAMP:20260421T075311
CREATED:20260312T120830Z
LAST-MODIFIED:20260312T120830Z
UID:10027-1780343100-1780351200@deventerfotokring.nl
SUMMARY:DFK University Praktijkavond
DESCRIPTION:Je hebt geen toestemming om deze inhoud te bekijken
URL:https://deventerfotokring.nl/dfk-agenda/dfk-university-praktijkavond-20260601/
LOCATION:De Schalm\, Dreef 1\, Deventer\, Netherlands
CATEGORIES:DFK University
END:VEVENT
BEGIN:VEVENT
DTSTART;TZID=Europe/Amsterdam:20260608T193000
DTEND;TZID=Europe/Amsterdam:20260608T220000
DTSTAMP:20260421T075311
CREATED:20251127T162143Z
LAST-MODIFIED:20260312T123002Z
UID:9498-1780947000-1780956000@deventerfotokring.nl
SUMMARY:Fotograferen op locatie\, thema: Compositie in de Praktijk
DESCRIPTION:Je hebt geen toestemming om deze inhoud te bekijken
URL:https://deventerfotokring.nl/dfk-agenda/twee-huiskamergroeppresentaties/
CATEGORIES:Clubavond,DFK University
END:VEVENT
END:VCALENDAR