BEGIN:VCALENDAR
VERSION:2.0
PRODID:-//Deventer Foto Kring - ECPv6.15.20//NONSGML v1.0//EN
CALSCALE:GREGORIAN
METHOD:PUBLISH
X-WR-CALNAME:Deventer Foto Kring
X-ORIGINAL-URL:https://deventerfotokring.nl
X-WR-CALDESC:Evenementen voor Deventer Foto Kring
REFRESH-INTERVAL;VALUE=DURATION:PT1H
X-Robots-Tag:noindex
X-PUBLISHED-TTL:PT1H
BEGIN:VTIMEZONE
TZID:Europe/Amsterdam
BEGIN:DAYLIGHT
TZOFFSETFROM:+0100
TZOFFSETTO:+0200
TZNAME:CEST
DTSTART:20250330T010000
END:DAYLIGHT
BEGIN:STANDARD
TZOFFSETFROM:+0200
TZOFFSETTO:+0100
TZNAME:CET
DTSTART:20251026T010000
END:STANDARD
BEGIN:DAYLIGHT
TZOFFSETFROM:+0100
TZOFFSETTO:+0200
TZNAME:CEST
DTSTART:20260329T010000
END:DAYLIGHT
BEGIN:STANDARD
TZOFFSETFROM:+0200
TZOFFSETTO:+0100
TZNAME:CET
DTSTART:20261025T010000
END:STANDARD
BEGIN:DAYLIGHT
TZOFFSETFROM:+0100
TZOFFSETTO:+0200
TZNAME:CEST
DTSTART:20270328T010000
END:DAYLIGHT
BEGIN:STANDARD
TZOFFSETFROM:+0200
TZOFFSETTO:+0100
TZNAME:CET
DTSTART:20271031T010000
END:STANDARD
END:VTIMEZONE
BEGIN:VEVENT
DTSTART;TZID=Europe/Amsterdam:20260511T190000
DTEND;TZID=Europe/Amsterdam:20260511T220000
DTSTAMP:20260420T225214
CREATED:20251127T162029Z
LAST-MODIFIED:20260312T115700Z
UID:9496-1778526000-1778536800@deventerfotokring.nl
SUMMARY:Lebuïnus expositie\, DFK University\, HKG Abstract
DESCRIPTION:DFK University: GIMP ‘goedkope(re) alternatieven voor Adobe Photoshop en Lightroom’\nDe Schalm\, Dreef 1 Deventer van 19.00 – 19.45 uur\nLebuinus Expositie\, DFK University met het onderwerp ‘Compositie’ en presentatie Huiskamergroep Abstract\nDe Schalm\, Dreef 1 Deventer van 19.45 – 22.00 uur \nDoor de expositiecommissie zal uitleg worden gegeven hoe we dit jaar onze expositie in de Lebuïnuskerk aanpakken.\nDeze expositie vindt plaats van 13 juli tot en met 2 augustus 2026. \nVervolgens zal DFK University een inleiding verzorgen over compositie van de foto\, het jaarthema van 2026. De theorie van compositie wordt behandeld en geïllustreerd met tal van voorbeelden. \nNa de pauze presenteren de leden van Huiskamergroep Abstract hun werk.
URL:https://deventerfotokring.nl/dfk-agenda/lebuinus-expositie-bespreken-opdracht-n-a-v-lezing/
LOCATION:De Schalm\, Dreef 1\, Deventer\, Netherlands
CATEGORIES:Clubavond
END:VEVENT
BEGIN:VEVENT
DTSTART;TZID=Europe/Amsterdam:20260512T000000
DTEND;TZID=Europe/Amsterdam:20260517T235959
DTSTAMP:20260420T225214
CREATED:20260119T072406Z
LAST-MODIFIED:20260119T074252Z
UID:9883-1778544000-1779062399@deventerfotokring.nl
SUMMARY:Bondsfotoexpositie
DESCRIPTION:Organisator: Fotobond – 12 mei 19.00 uur opening door Rob König\, Burgermeester van Deventer
URL:https://deventerfotokring.nl/dfk-agenda/bonds-fotoexpositie/
LOCATION:Lebuinuskerk\, Grote Kerkhof 40\, Deventer\, Netherlands
CATEGORIES:Clubavond,Fotobond
END:VEVENT
BEGIN:VEVENT
DTSTART;TZID=Europe/Amsterdam:20260514T100000
DTEND;TZID=Europe/Amsterdam:20260514T170000
DTSTAMP:20260420T225214
CREATED:20260119T072054Z
LAST-MODIFIED:20260119T074617Z
UID:9879-1778752800-1778778000@deventerfotokring.nl
SUMMARY:Uitslag en bespreking Bondsfotowedstrijd
DESCRIPTION:Organisator: Fotobond \nBondsfotowedstrijd 2025 \n \nBespreking inzending Deventer Foto Kring
URL:https://deventerfotokring.nl/dfk-agenda/uitslag-en-bespreking-bondsfotowedstrijd/
LOCATION:Lebuinuskerk\, Grote Kerkhof 40\, Deventer\, Netherlands
CATEGORIES:Clubavond,Fotobond
END:VEVENT
BEGIN:VEVENT
DTSTART;TZID=Europe/Amsterdam:20260525T194500
DTEND;TZID=Europe/Amsterdam:20260525T220000
DTSTAMP:20260420T225214
CREATED:20251127T163505Z
LAST-MODIFIED:20251127T163505Z
UID:9512-1779738300-1779746400@deventerfotokring.nl
SUMMARY:Geen clubavond: 2e Pinksterdag
DESCRIPTION:
URL:https://deventerfotokring.nl/dfk-agenda/geen-clubavond-2e-pinksterdag/
CATEGORIES:Clubavond
END:VEVENT
BEGIN:VEVENT
DTSTART;TZID=Europe/Amsterdam:20260608T193000
DTEND;TZID=Europe/Amsterdam:20260608T220000
DTSTAMP:20260420T225214
CREATED:20251127T162143Z
LAST-MODIFIED:20260312T123002Z
UID:9498-1780947000-1780956000@deventerfotokring.nl
SUMMARY:Fotograferen op locatie\, thema: Compositie in de Praktijk
DESCRIPTION:Deze avond zal geheel in het teken staan van het DFK University jaarthema ‘Compositie in de praktijk’. We gaan fotograferen op locatie en oefenen met wat we aan kennis hebben opgedaan over compositie.
URL:https://deventerfotokring.nl/dfk-agenda/twee-huiskamergroeppresentaties/
CATEGORIES:Clubavond,DFK University
END:VEVENT
BEGIN:VEVENT
DTSTART;TZID=Europe/Amsterdam:20260622T194500
DTEND;TZID=Europe/Amsterdam:20260622T220000
DTSTAMP:20260420T225214
CREATED:20251127T162259Z
LAST-MODIFIED:20251127T162259Z
UID:9500-1782157500-1782165600@deventerfotokring.nl
SUMMARY:Lezing
DESCRIPTION:
URL:https://deventerfotokring.nl/dfk-agenda/lezing/
LOCATION:De Schalm\, Dreef 1\, Deventer\, Netherlands
CATEGORIES:Clubavond
END:VEVENT
BEGIN:VEVENT
DTSTART;TZID=Europe/Amsterdam:20260706T194500
DTEND;TZID=Europe/Amsterdam:20260706T220000
DTSTAMP:20260420T225214
CREATED:20251127T162643Z
LAST-MODIFIED:20260113T121708Z
UID:9502-1783367100-1783375200@deventerfotokring.nl
SUMMARY:Foto-experience
DESCRIPTION:
URL:https://deventerfotokring.nl/dfk-agenda/fotoexperience/
LOCATION:Davo\, Sluistraat 6\, Deventer\, Netherlands
CATEGORIES:Clubavond
END:VEVENT
BEGIN:VEVENT
DTSTART;TZID=Europe/Amsterdam:20260831T194500
DTEND;TZID=Europe/Amsterdam:20260831T220000
DTSTAMP:20260420T225214
CREATED:20251127T162818Z
LAST-MODIFIED:20260113T121737Z
UID:9505-1788205500-1788213600@deventerfotokring.nl
SUMMARY:Bespreken Foto-experience & Vakantieopdracht
DESCRIPTION:
URL:https://deventerfotokring.nl/dfk-agenda/bespreken-fotoexperience-vakantieopdracht/
LOCATION:De Schalm\, Dreef 1\, Deventer\, Netherlands
CATEGORIES:Clubavond
END:VEVENT
BEGIN:VEVENT
DTSTART;TZID=Europe/Amsterdam:20260914T184500
DTEND;TZID=Europe/Amsterdam:20260914T220000
DTSTAMP:20260420T225214
CREATED:20260117T083129Z
LAST-MODIFIED:20260117T083129Z
UID:9857-1789411500-1789423200@deventerfotokring.nl
SUMMARY:Lezing Vincent van Gaalen
DESCRIPTION:
URL:https://deventerfotokring.nl/dfk-agenda/lezing-vincent-van-gaalen/
LOCATION:De Schalm\, Dreef 1\, Deventer\, Netherlands
CATEGORIES:Clubavond
END:VEVENT
BEGIN:VEVENT
DTSTART;TZID=Europe/Amsterdam:20260928T184500
DTEND;TZID=Europe/Amsterdam:20260928T220000
DTSTAMP:20260420T225214
CREATED:20260117T083256Z
LAST-MODIFIED:20260117T083256Z
UID:9860-1790621100-1790632800@deventerfotokring.nl
SUMMARY:Presentatie Huiskamergroepen  Architectuur en Mobiele fotografie
DESCRIPTION:
URL:https://deventerfotokring.nl/dfk-agenda/presentatie-huiskamergroepen-architectuur-en-mobiele-fotografie/
LOCATION:De Schalm\, Dreef 1\, Deventer\, Netherlands
CATEGORIES:Clubavond
END:VEVENT
BEGIN:VEVENT
DTSTART;TZID=Europe/Amsterdam:20261012T080000
DTEND;TZID=Europe/Amsterdam:20261012T170000
DTSTAMP:20260420T225214
CREATED:20260112T193630Z
LAST-MODIFIED:20260113T121825Z
UID:9819-1791792000-1791824400@deventerfotokring.nl
SUMMARY:Presentatie HKG Portret
DESCRIPTION:
URL:https://deventerfotokring.nl/dfk-agenda/huiskamergroep-presentatie/
CATEGORIES:Clubavond
END:VEVENT
BEGIN:VEVENT
DTSTART;TZID=Europe/Amsterdam:20261026T194500
DTEND;TZID=Europe/Amsterdam:20261026T220000
DTSTAMP:20260420T225214
CREATED:20260113T122139Z
LAST-MODIFIED:20260113T122139Z
UID:9844-1793043900-1793052000@deventerfotokring.nl
SUMMARY:Clubavond
DESCRIPTION:
URL:https://deventerfotokring.nl/dfk-agenda/clubavond-2/
CATEGORIES:Clubavond
END:VEVENT
BEGIN:VEVENT
DTSTART;TZID=Europe/Amsterdam:20261109T194500
DTEND;TZID=Europe/Amsterdam:20261109T220000
DTSTAMP:20260420T225214
CREATED:20260113T122235Z
LAST-MODIFIED:20260312T171640Z
UID:9846-1794253500-1794261600@deventerfotokring.nl
SUMMARY:Presentatie HKG Straat- Documentairfotografie en Ledenpresentatie
DESCRIPTION:
URL:https://deventerfotokring.nl/dfk-agenda/presentatie-hkg-straat-documentairfotografie-en-ledenpresentatie/
CATEGORIES:Clubavond
END:VEVENT
BEGIN:VEVENT
DTSTART;TZID=Europe/Amsterdam:20261123T194500
DTEND;TZID=Europe/Amsterdam:20261123T220000
DTSTAMP:20260420T225214
CREATED:20260113T122329Z
LAST-MODIFIED:20260113T122329Z
UID:9848-1795463100-1795471200@deventerfotokring.nl
SUMMARY:Lezing Andrea Gulickx
DESCRIPTION:
URL:https://deventerfotokring.nl/dfk-agenda/lezing-andrea-gulickx/
CATEGORIES:Clubavond
END:VEVENT
BEGIN:VEVENT
DTSTART;TZID=Europe/Amsterdam:20261207T194500
DTEND;TZID=Europe/Amsterdam:20261207T220000
DTSTAMP:20260420T225214
CREATED:20260113T122419Z
LAST-MODIFIED:20260113T122419Z
UID:9850-1796672700-1796680800@deventerfotokring.nl
SUMMARY:Presentatie fotokettingen\, kerstopdracht en borrel
DESCRIPTION:
URL:https://deventerfotokring.nl/dfk-agenda/presentatie-fotokettingen-kerstopdracht-en-borrel/
CATEGORIES:Clubavond
END:VEVENT
BEGIN:VEVENT
DTSTART;TZID=Europe/Amsterdam:20261221T194500
DTEND;TZID=Europe/Amsterdam:20261221T220000
DTSTAMP:20260420T225214
CREATED:20260113T122524Z
LAST-MODIFIED:20260113T122524Z
UID:9852-1797882300-1797890400@deventerfotokring.nl
SUMMARY:Clubavond vervalt i.v.m. Kerst
DESCRIPTION:
URL:https://deventerfotokring.nl/dfk-agenda/clubavond-vervalt-i-v-m-kerst/
CATEGORIES:Clubavond
END:VEVENT
END:VCALENDAR