BEGIN:VCALENDAR
VERSION:2.0
PRODID:-//Deventer Foto Kring - ECPv6.15.20//NONSGML v1.0//EN
CALSCALE:GREGORIAN
METHOD:PUBLISH
X-ORIGINAL-URL:https://deventerfotokring.nl
X-WR-CALDESC:Evenementen voor Deventer Foto Kring
REFRESH-INTERVAL;VALUE=DURATION:PT1H
X-Robots-Tag:noindex
X-PUBLISHED-TTL:PT1H
BEGIN:VTIMEZONE
TZID:Europe/Amsterdam
BEGIN:DAYLIGHT
TZOFFSETFROM:+0100
TZOFFSETTO:+0200
TZNAME:CEST
DTSTART:20250330T010000
END:DAYLIGHT
BEGIN:STANDARD
TZOFFSETFROM:+0200
TZOFFSETTO:+0100
TZNAME:CET
DTSTART:20251026T010000
END:STANDARD
BEGIN:DAYLIGHT
TZOFFSETFROM:+0100
TZOFFSETTO:+0200
TZNAME:CEST
DTSTART:20260329T010000
END:DAYLIGHT
BEGIN:STANDARD
TZOFFSETFROM:+0200
TZOFFSETTO:+0100
TZNAME:CET
DTSTART:20261025T010000
END:STANDARD
BEGIN:DAYLIGHT
TZOFFSETFROM:+0100
TZOFFSETTO:+0200
TZNAME:CEST
DTSTART:20270328T010000
END:DAYLIGHT
BEGIN:STANDARD
TZOFFSETFROM:+0200
TZOFFSETTO:+0100
TZNAME:CET
DTSTART:20271031T010000
END:STANDARD
END:VTIMEZONE
BEGIN:VEVENT
DTSTART;TZID=Europe/Amsterdam:20260105T194500
DTEND;TZID=Europe/Amsterdam:20260105T220000
DTSTAMP:20260421T002612
CREATED:20251127T160512Z
LAST-MODIFIED:20260105T113521Z
UID:9482-1767642300-1767650400@deventerfotokring.nl
SUMMARY:Bespreken kerstopdracht: afgelast vanwege weersomstandigheden
DESCRIPTION:Het KNMI heeft code oranje afgegeven voor bijna geheel Nederland\, waaronder Overijssel\, geldig tot middernacht.\nHet bestuur vindt het daarom niet verantwoord om de clubavond van vanavond door te laten gaan en last de avond af. \nZie ook de Nieuwsbrief van vandaag \n  \nKerstopdracht: dit jaar laten we ons niet inspireren door een foto\, maar door een tekst: \n\nKerst biedt ons de gelegenheid om even stil te staan\, een pas op de plaats te maken en aandacht te geven aan wat werkelijk belangrijk is in ons leven. \n\nIedereen kan op 5 januari maximaal twee foto’s afgedrukt op A4-formaat meenemen. \nDe bespreking vindt plaats in de vorm van een fotocirkel: we laten ons allemaal leiden door dezelfde bron en ontdekken samen hoe verschillend die inspiratie kan uitwerken.
URL:https://deventerfotokring.nl/dfk-agenda/bespreken-cirkelfoto-kerstopdracht/
LOCATION:De Schalm\, Dreef 1\, Deventer\, Netherlands
CATEGORIES:Clubavond
END:VEVENT
BEGIN:VEVENT
DTSTART;TZID=Europe/Amsterdam:20260119T194500
DTEND;TZID=Europe/Amsterdam:20260119T220000
DTSTAMP:20260421T002612
CREATED:20251127T160827Z
LAST-MODIFIED:20260118T131343Z
UID:9485-1768851900-1768860000@deventerfotokring.nl
SUMMARY:Lezing Frank Boots
DESCRIPTION:Deze clubavond presenteert Frank Boots een inspirerende lezing waarin hij prints van portrefoto’s en figuurstudies laat zien. Je krijgt de kans om de foto’s op verschillende formaten te bewonderen\, van intieme 30×30 cm prints tot indrukwekkende A2 werken\, fraai gepresenteerd op dragers van 50×60 cm. \nFrank Boots over zijn fotografie: \n\n\nIk zie mijn portretfotografie als ontmoetingen.\nBij de opnamen is het een ontmoeting tussen de fotograaf en het model\, bij het bekijken van de foto tussen het beeld en de beschouwer.\nIeder van die ontmoetingen heeft zijn eigen waarde.\nIk zoek in mijn opnamen de kracht en het karakter achter de mens en probeer dat in mijn foto’s te laten zien\, de sterke en mooie punten te accentueren. Bijzonder geboeid ben ik hierbij in de tegenstelling tussen aantrekkingskracht uitoefenen en afstand houden\, tussen mooi en echt\, tussen geposeerd en natuurlijk.\nMijn inspiratie vind ik in het klassieke portret van het begin van de vorige eeuw\, vorm gegeven met de moderne techniek. \n\nWebsite: https://www.frankboots.nl/ \nWinnaar van de Bondsfotowedstrijd 2025 Frank Boots: \n \n \n 
URL:https://deventerfotokring.nl/dfk-agenda/lezing-frank-boots/
LOCATION:De Schalm\, Dreef 1\, Deventer\, Netherlands
CATEGORIES:Clubavond
END:VEVENT
END:VCALENDAR