BEGIN:VCALENDAR
VERSION:2.0
PRODID:-//Deventer Foto Kring - ECPv6.15.20//NONSGML v1.0//EN
CALSCALE:GREGORIAN
METHOD:PUBLISH
X-WR-CALNAME:Deventer Foto Kring
X-ORIGINAL-URL:https://deventerfotokring.nl
X-WR-CALDESC:Evenementen voor Deventer Foto Kring
REFRESH-INTERVAL;VALUE=DURATION:PT1H
X-Robots-Tag:noindex
X-PUBLISHED-TTL:PT1H
BEGIN:VTIMEZONE
TZID:Europe/Amsterdam
BEGIN:DAYLIGHT
TZOFFSETFROM:+0100
TZOFFSETTO:+0200
TZNAME:CEST
DTSTART:20250330T010000
END:DAYLIGHT
BEGIN:STANDARD
TZOFFSETFROM:+0200
TZOFFSETTO:+0100
TZNAME:CET
DTSTART:20251026T010000
END:STANDARD
BEGIN:DAYLIGHT
TZOFFSETFROM:+0100
TZOFFSETTO:+0200
TZNAME:CEST
DTSTART:20260329T010000
END:DAYLIGHT
BEGIN:STANDARD
TZOFFSETFROM:+0200
TZOFFSETTO:+0100
TZNAME:CET
DTSTART:20261025T010000
END:STANDARD
BEGIN:DAYLIGHT
TZOFFSETFROM:+0100
TZOFFSETTO:+0200
TZNAME:CEST
DTSTART:20270328T010000
END:DAYLIGHT
BEGIN:STANDARD
TZOFFSETFROM:+0200
TZOFFSETTO:+0100
TZNAME:CET
DTSTART:20271031T010000
END:STANDARD
END:VTIMEZONE
BEGIN:VEVENT
DTSTART;TZID=Europe/Amsterdam:20260202T194500
DTEND;TZID=Europe/Amsterdam:20260202T220000
DTSTAMP:20260421T051120
CREATED:20251105T210229Z
LAST-MODIFIED:20260126T145807Z
UID:9237-1770061500-1770069600@deventerfotokring.nl
SUMMARY:Algemene Ledenvergadering
DESCRIPTION:Voor de ALV stukken zie de ledenpagina
URL:https://deventerfotokring.nl/dfk-agenda/algemene-ledenvergadering/
LOCATION:De Schalm\, Dreef 1\, Deventer\, Netherlands
CATEGORIES:Bestuur,Clubavond
END:VEVENT
BEGIN:VEVENT
DTSTART;TZID=Europe/Amsterdam:20260115T193000
DTEND;TZID=Europe/Amsterdam:20260115T213000
DTSTAMP:20260421T051120
CREATED:20251105T204017Z
LAST-MODIFIED:20260112T193103Z
UID:9235-1768505400-1768512600@deventerfotokring.nl
SUMMARY:Bestuursvergadering
DESCRIPTION:
URL:https://deventerfotokring.nl/dfk-agenda/bestuursvergadering/
CATEGORIES:Bestuur
END:VEVENT
END:VCALENDAR